BEGIN:VCALENDAR
PRODID:-//Prince George//NONSGML v1.0//EN
VERSION:2.0
CALSCALE:GREGORIAN
METHOD:PUBLISH
X-WR-CALNAME:Prince George
X-ORIGINAL-URL:http://momcafenetwork.com/prince-george
X-WR-CALDESC:Events for Prince George
X-WR-TIMEZONE:America/Vancouver
BEGIN:VEVENT
DTSTART:20111028T093000
DTEND:20111028T113000
DTSTAMP:20120311T181929
CREATED:20110901T143751
LAST-MODIFIED:20111007T125819
UID:346@http://momcafenetwork.com/prince-george
SUMMARY:How to Succeed in Any Economy
DESCRIPTION:This workshop WILL change your life!  Based on the best-selling book, Straight-Line Leadership, by Dusan Djukich, this workshop “powerfully addresses the 17 classic business performance issues that are costing entrepreneurs and business owners a fortune in lost revenue, opportunity, time, energy, sleep, relationships, and happiness”.  Dr. Fränzi Ng, a dynamic, internationally sought after Success Coach with more than 14 years of experience, has worked and studied closely with Dusan Djukich.      In 45 minutes, Dr. Ng will concisely show you how to:     · Succeed in ANY economy   · Solve time management issues   · Stop endlessly “talking and thinking” things to death   · Stop “reacting” and start “creating”   · Produce more results in a week than you usually do in a month!    Join us for this amazing and influential workshop, included light breakfast, on-site childcare and fantastic prizes!  For more information on this workshop, please visit Dr. Ng's website at http://drng.net/BusinessPerformanceWorkshop.htm
LOCATION:3333 University Way, Array, Prince George, V2N 4Z9
URL:http://momcafenetwork.com/prince-george/2011/09/01/how-to-succeed-in-any-economy/
END:VEVENT
END:VCALENDAR