BEGIN:VCALENDAR
PRODID:-//Okanagan//NONSGML v1.0//EN
VERSION:2.0
CALSCALE:GREGORIAN
METHOD:PUBLISH
X-WR-CALNAME:Okanagan
X-ORIGINAL-URL:http://momcafenetwork.com/okanagan
X-WR-CALDESC:Events for Okanagan
BEGIN:VEVENT
DTSTART:20110126T190000
DTEND:20110126T220000
DTSTAMP:20111217T043218
CREATED:20110104T215510
LAST-MODIFIED:20110104T215507
UID:57@http://momcafenetwork.com/okanagan
SUMMARY:MOMMY vs. ME  
DESCRIPTION:momcafé Okanagan…Connecting Inspired Moms    Moms across Canada are connecting with each other through momcafé.  Okanagan moms can now too enjoy good conversation, wine &amp; dessert while listening to an inspirational speaker!     Life is BUSY. As mompreneurs we face unique challenges made even more unique by our complex  families and businesses.  So many expectations from others and, even more powerful in our lives, so many expectations we put on ourselves. How does one balance our need to be MOMMY and maintain a sense of ME? Join Trisha Miltimore, National Speaker, Parent Educator and Radio Broadcaster for a candid conversation on the MOMMY vs ME internal battle.  Insightful dialogue combined with real practical tips on how to achieve a greater sense of empowerment and success in all aspects of our busy, tiring and AMAZING lives!          MOMMY vs. ME    Wednesday, January 26th  7 pm to 10 pm    'Fin'tastic's Cuts For Kids  Unit 102, 1865 Dilworth Drive, Kelowna, BC    Feature Speaker: Trisha Miltimore             For over 12 years, Trisha Miltimore has been inspiring people to find their true passions, to step “outside of the box” and to realize their own sense of greatness. As a national speaker and entrepreneur she spreads the message that life is all about K.A.R.M.A: Knowledge, Attitude, Respect, Motivation, Action.     “Inspiring others to be their own EXTRAORDINARY is what I do—it’s who I am,” acknowledges Miltimore. “On challenging days…hearing how my journey has impacted others becomes my INSPIRATION. It’s K.A.R.M.A!”  In addition to being a speaker, Miltimore is an on air radio announcer and co-owner of two retail stores. Growing up a part of the family business, she knows firsthand the hardships and privileges of being self-employed — and what it takes to ignite and maintain an attitude of success.     “Resiliency is my greatest strength as an entrepreneur,” says Miltimore. “To face perceived failure with a sense of growth opportunity and to get back up under the most extreme conditions of self judgment and doubt takes faith and an amazing support network.” For more information on Trisha see www.contagious.ca    Ticket will include a dessert, wine sampling, networking, shopping and some inspiration! Advance ticket purchase is requred for this event. There will be no tickets available at the door. All tickets are non-refundable.          **Please note that there will be no formal child-minding available at this evening event. However, children 0-6 months (who are not crawling) are welcome to stay with their moms during the event.          Bring a baby basic (food, formula, diapers,etc.) for donation to the Kelowna Community Foodbank's Tiny Bundles program and recieve a discount for the next momcafe event!            
LOCATION:Unit 102, 1865 Dilworth Drive, Array, Kelowna, V1Y 9T1
URL:http://momcafenetwork.com/okanagan/2011/01/04/mommy-vs-me/
END:VEVENT
END:VCALENDAR