BEGIN:VCALENDAR
PRODID:-//Calgary//NONSGML v1.0//EN
VERSION:2.0
CALSCALE:GREGORIAN
METHOD:PUBLISH
X-WR-CALNAME:Calgary
X-ORIGINAL-URL:http://momcafenetwork.com/calgary
X-WR-CALDESC:Events for Calgary
BEGIN:VEVENT
DTSTART:20110408T090000
DTEND:20110408T110000
DTSTAMP:20110321T041046
CREATED:20110306T204424
LAST-MODIFIED:20110319T064221
UID:109@http://momcafenetwork.com/calgary
SUMMARY:Dare to Dream
DESCRIPTION:momcafé CALGARY presents: Dare to Dream!      Carrie Fanai is no stranger to multitasking.  To some of you Carrie will be a familiar face, having started momcafe Calgary several years ago. For others it is a wonderful opportunity to meet an inspiring mother who, prechildren, began her career in Engineering. After taking 5 years out of the corporate setting to be with her three small children, Carrie has recently embarked on a new entrepreneurial adventure having opened a new franchise in Calgary called Healthfare. Carrie dared to dream big and will be sharing with you her adventures along the way!        Sit back and relax while you enjoy a light breakfast,  a steaming latté and  on-site childcare provided by Kids &amp; Company, while listening to this inspiring women and connecting with other educated, savvy Calgary moms.     Register early to avoid disappointment! Join momcafé CALGARY on Friday, April 8th, 2011 at Earls Signal Hill to hear this amazing local mom.    Childcare will be provided by Kids &amp; Company. Childcare: Kids aged 0 – 12 years old are welcome. Listen to the speakers and engage in uninterrupted conversation while the children are supervised in a safe and fun area nearby. Babies aged 0 to 6 months (or older if you prefer) may choose to sit closer to Mom. An additional fee of $10.00 (plus GST) for the first child and $5.00 (plus GST) for each additional child will be charged for those requiring childcare (snacks included).    A HUGE thanks to our Regional Partners:          
LOCATION:140 Stewart Green, SW, Array, Calgary, T3H 3C8
URL:http://momcafenetwork.com/calgary/2011/03/06/109/
END:VEVENT
END:VCALENDAR